BEGIN:VCALENDAR
VERSION:2.0
PRODID:-//Freedom Church, Tallahassee, FL - ECPv6.15.20//NONSGML v1.0//EN
CALSCALE:GREGORIAN
METHOD:PUBLISH
X-ORIGINAL-URL:https://freedomchurch.life
X-WR-CALDESC:Events for Freedom Church, Tallahassee, FL
REFRESH-INTERVAL;VALUE=DURATION:PT1H
X-Robots-Tag:noindex
X-PUBLISHED-TTL:PT1H
BEGIN:VTIMEZONE
TZID:America/Detroit
BEGIN:DAYLIGHT
TZOFFSETFROM:-0500
TZOFFSETTO:-0400
TZNAME:EDT
DTSTART:20240310T070000
END:DAYLIGHT
BEGIN:STANDARD
TZOFFSETFROM:-0400
TZOFFSETTO:-0500
TZNAME:EST
DTSTART:20241103T060000
END:STANDARD
BEGIN:DAYLIGHT
TZOFFSETFROM:-0500
TZOFFSETTO:-0400
TZNAME:EDT
DTSTART:20250309T070000
END:DAYLIGHT
BEGIN:STANDARD
TZOFFSETFROM:-0400
TZOFFSETTO:-0500
TZNAME:EST
DTSTART:20251102T060000
END:STANDARD
BEGIN:DAYLIGHT
TZOFFSETFROM:-0500
TZOFFSETTO:-0400
TZNAME:EDT
DTSTART:20260308T070000
END:DAYLIGHT
BEGIN:STANDARD
TZOFFSETFROM:-0400
TZOFFSETTO:-0500
TZNAME:EST
DTSTART:20261101T060000
END:STANDARD
END:VTIMEZONE
BEGIN:VEVENT
DTSTART;TZID=America/Detroit:20250208T093000
DTEND;TZID=America/Detroit:20250208T160000
DTSTAMP:20260420T153316
CREATED:20250112T012414Z
LAST-MODIFIED:20250112T012511Z
UID:10000124-1739007000-1739030400@freedomchurch.life
SUMMARY:Winter Blitz Fun Arts 2025
DESCRIPTION:Winter Blitz is a Saturday event where we join kids from West Florida churches for a fun and powerful service! Kids also get the chance to participate in “Fun Arts\,” where they can showcase their talents and use them to glorify God. \nWho: Kids K-5th grade \nWhen and Where: February 8\, 9:30 a.m. to 4:00 p.m.\, at Transformation Church in Tallahassee \nCost: $40 per student/leader (includes lunch). Fun Arts entries: $10 for the first entry\, $5 for each additional (up to 4 total). \nT-Shirts: Pre-order for $15 by January 17th! \nDeadline: Registration closes Friday\, January 24th! \nDon’t miss out on Fun Arts! Fun Arts helps kids explore and develop their talents and encourages kids to use them for God’s Kingdom. Every entry will receive evaluation/encouragement forms\, and “superior” entries will be recognized with medals at the celebration service. \nFun Arts categories: graphic design; photography; visual art; short story; poetry; American Sign Language (solo or group); puppetry (solo or group); children’s lesson; short sermon; spoken word; dance (step\, worship dance\, or hip hop solo or group); drama (solo or group); human video (solo or group); dramatized quoting; stand-up comedy; rap (solo or group); vocal performance (solo or group); instrumental performance (solo or group). \nCheck out the rule book with guidelines for each category here: \n​Fun Arts Rule Book​\nWe have some scholarships available; please contact Pastor Renee if you would like to request help with registration fees. \n\nRegister for Winter Blitz Fun Arts
URL:https://freedomchurch.life/event/winter-blitz-fun-arts-2025/
LOCATION:Transformation Church\, 2300 Old Bainbridge Road\, Tallahassee\, FL\, 32303\, United States
CATEGORIES:Freedom Kids
ATTACH;FMTTYPE=image/png:https://freedomchurch.life/wp-content/uploads/2025/01/WinterBlitz-25-STD-2.png
ORGANIZER;CN="Ren%C3%A9e Lunsford":MAILTO:renee@freedomchurch.life
END:VEVENT
END:VCALENDAR