BEGIN:VCALENDAR
VERSION:2.0
PRODID:-//Freedom Church, Tallahassee, FL - ECPv6.15.20//NONSGML v1.0//EN
CALSCALE:GREGORIAN
METHOD:PUBLISH
X-WR-CALNAME:Freedom Church, Tallahassee, FL
X-ORIGINAL-URL:https://freedomchurch.life
X-WR-CALDESC:Events for Freedom Church, Tallahassee, FL
REFRESH-INTERVAL;VALUE=DURATION:PT1H
X-Robots-Tag:noindex
X-PUBLISHED-TTL:PT1H
BEGIN:VTIMEZONE
TZID:America/Detroit
BEGIN:DAYLIGHT
TZOFFSETFROM:-0500
TZOFFSETTO:-0400
TZNAME:EDT
DTSTART:20240310T070000
END:DAYLIGHT
BEGIN:STANDARD
TZOFFSETFROM:-0400
TZOFFSETTO:-0500
TZNAME:EST
DTSTART:20241103T060000
END:STANDARD
BEGIN:DAYLIGHT
TZOFFSETFROM:-0500
TZOFFSETTO:-0400
TZNAME:EDT
DTSTART:20250309T070000
END:DAYLIGHT
BEGIN:STANDARD
TZOFFSETFROM:-0400
TZOFFSETTO:-0500
TZNAME:EST
DTSTART:20251102T060000
END:STANDARD
BEGIN:DAYLIGHT
TZOFFSETFROM:-0500
TZOFFSETTO:-0400
TZNAME:EDT
DTSTART:20260308T070000
END:DAYLIGHT
BEGIN:STANDARD
TZOFFSETFROM:-0400
TZOFFSETTO:-0500
TZNAME:EST
DTSTART:20261101T060000
END:STANDARD
END:VTIMEZONE
BEGIN:VEVENT
DTSTART;TZID=America/Detroit:20251026T190000
DTEND;TZID=America/Detroit:20251026T210000
DTSTAMP:20260420T040944
CREATED:20250930T162137Z
LAST-MODIFIED:20250930T162318Z
UID:10000163-1761505200-1761512400@freedomchurch.life
SUMMARY:Good News Tour with Will Graham
DESCRIPTION:Will Graham is coming to four cities across Florida this fall to share the Good News that Jesus Christ offers hope and restoration for the broken. Join with local believers in reaching the Sunshine State with the Gospel. Will you help shine the light of Jesus Christ across Florida? \nSunday\, Oct. 26 | 7 p.m.
URL:https://freedomchurch.life/event/good-news-tour-with-will-graham/
LOCATION:Tallahassee Auto Museum\, 3945 Museum Rd\,\, Tallahassee\, FL -6325\, FL\, 32310\, United States
CATEGORIES:Outreach
ATTACH;FMTTYPE=image/jpeg:https://freedomchurch.life/wp-content/uploads/2025/09/GNT_FL_Tallahassee_966dba920b.jpg
END:VEVENT
END:VCALENDAR