BEGIN:VCALENDAR
VERSION:2.0
PRODID:-//Freedom Church, Tallahassee, FL - ECPv6.15.20//NONSGML v1.0//EN
CALSCALE:GREGORIAN
METHOD:PUBLISH
X-ORIGINAL-URL:https://freedomchurch.life
X-WR-CALDESC:Events for Freedom Church, Tallahassee, FL
REFRESH-INTERVAL;VALUE=DURATION:PT1H
X-Robots-Tag:noindex
X-PUBLISHED-TTL:PT1H
BEGIN:VTIMEZONE
TZID:America/Detroit
BEGIN:DAYLIGHT
TZOFFSETFROM:-0500
TZOFFSETTO:-0400
TZNAME:EDT
DTSTART:20240310T070000
END:DAYLIGHT
BEGIN:STANDARD
TZOFFSETFROM:-0400
TZOFFSETTO:-0500
TZNAME:EST
DTSTART:20241103T060000
END:STANDARD
BEGIN:DAYLIGHT
TZOFFSETFROM:-0500
TZOFFSETTO:-0400
TZNAME:EDT
DTSTART:20250309T070000
END:DAYLIGHT
BEGIN:STANDARD
TZOFFSETFROM:-0400
TZOFFSETTO:-0500
TZNAME:EST
DTSTART:20251102T060000
END:STANDARD
BEGIN:DAYLIGHT
TZOFFSETFROM:-0500
TZOFFSETTO:-0400
TZNAME:EDT
DTSTART:20260308T070000
END:DAYLIGHT
BEGIN:STANDARD
TZOFFSETFROM:-0400
TZOFFSETTO:-0500
TZNAME:EST
DTSTART:20261101T060000
END:STANDARD
END:VTIMEZONE
BEGIN:VEVENT
DTSTART;TZID=America/Detroit:20250131T113000
DTEND;TZID=America/Detroit:20250131T130000
DTSTAMP:20260420T135001
CREATED:20250112T012723Z
LAST-MODIFIED:20250112T013318Z
UID:10000126-1738323000-1738328400@freedomchurch.life
SUMMARY:Freedom Saints Lunch
DESCRIPTION:The next Freedom Saints luncheon will be Friday\, January 31\, 11:30 AM at Pepper’s Mexican Grill & Cantina (1425 Village Square Blvd.\, #5\, Tallahassee\, FL 32312). If you are 50+\, you are invited to be a part of the fellowship lunch. . \n\nRegister for the Freedom Saints Lunch
URL:https://freedomchurch.life/event/freedom-saints-lunch/
LOCATION:Pepper’s Mexican Grill\, 425 Village Square Blvd.\, #5\, Tallahassee\, FL\, 32312\, United States
CATEGORIES:Freedom Saints
ATTACH;FMTTYPE=image/jpeg:https://freedomchurch.life/wp-content/uploads/2024/06/FreedomSaintsbackgroun-2.jpg
ORGANIZER;CN="Derinda Kirkland":MAILTO:derinda.kirkland@comcast.net
END:VEVENT
END:VCALENDAR