BEGIN:VCALENDAR
VERSION:2.0
PRODID:-//Freedom Church, Tallahassee, FL - ECPv6.15.20//NONSGML v1.0//EN
CALSCALE:GREGORIAN
METHOD:PUBLISH
X-WR-CALNAME:Freedom Church, Tallahassee, FL
X-ORIGINAL-URL:https://freedomchurch.life
X-WR-CALDESC:Events for Freedom Church, Tallahassee, FL
REFRESH-INTERVAL;VALUE=DURATION:PT1H
X-Robots-Tag:noindex
X-PUBLISHED-TTL:PT1H
BEGIN:VTIMEZONE
TZID:America/Detroit
BEGIN:DAYLIGHT
TZOFFSETFROM:-0500
TZOFFSETTO:-0400
TZNAME:EDT
DTSTART:20250309T070000
END:DAYLIGHT
BEGIN:STANDARD
TZOFFSETFROM:-0400
TZOFFSETTO:-0500
TZNAME:EST
DTSTART:20251102T060000
END:STANDARD
BEGIN:DAYLIGHT
TZOFFSETFROM:-0500
TZOFFSETTO:-0400
TZNAME:EDT
DTSTART:20260308T070000
END:DAYLIGHT
BEGIN:STANDARD
TZOFFSETFROM:-0400
TZOFFSETTO:-0500
TZNAME:EST
DTSTART:20261101T060000
END:STANDARD
BEGIN:DAYLIGHT
TZOFFSETFROM:-0500
TZOFFSETTO:-0400
TZNAME:EDT
DTSTART:20270314T070000
END:DAYLIGHT
BEGIN:STANDARD
TZOFFSETFROM:-0400
TZOFFSETTO:-0500
TZNAME:EST
DTSTART:20271107T060000
END:STANDARD
END:VTIMEZONE
BEGIN:VEVENT
DTSTART;TZID=America/Detroit:20260227T113000
DTEND;TZID=America/Detroit:20260227T143000
DTSTAMP:20260420T070425
CREATED:20260201T161608Z
LAST-MODIFIED:20260201T161736Z
UID:10000179-1772191800-1772202600@freedomchurch.life
SUMMARY:Freedom Saints Luncheon February 27
DESCRIPTION:The Freedom Saints February luncheon will be on Friday\, Feb. 27\, at 11:30 AM. It will be held at Little Italy which is located at: 111 S Magnolia Dr #17\, Tallahassee\, FL 32301. \n\nRSVP for the Freedom Saints Luncheon
URL:https://freedomchurch.life/event/freedom-saints-luncheon-february-27/
LOCATION:LIttle Italy\, 111 S Magnolia Dr #17\, Tallahassee\, FL\, 32301\, United States
CATEGORIES:Freedom Church,Freedom Saints
ATTACH;FMTTYPE=image/jpeg:https://freedomchurch.life/wp-content/uploads/2024/06/FreedomSaintsbackgroun-1.jpg
ORGANIZER;CN="Derinda Kirkland":MAILTO:derinda.kirkland@comcast.net
END:VEVENT
END:VCALENDAR