BEGIN:VCALENDAR
VERSION:2.0
PRODID:-//Freedom Church, Tallahassee, FL - ECPv6.15.20//NONSGML v1.0//EN
CALSCALE:GREGORIAN
METHOD:PUBLISH
X-ORIGINAL-URL:https://freedomchurch.life
X-WR-CALDESC:Events for Freedom Church, Tallahassee, FL
REFRESH-INTERVAL;VALUE=DURATION:PT1H
X-Robots-Tag:noindex
X-PUBLISHED-TTL:PT1H
BEGIN:VTIMEZONE
TZID:America/Detroit
BEGIN:DAYLIGHT
TZOFFSETFROM:-0500
TZOFFSETTO:-0400
TZNAME:EDT
DTSTART:20240310T070000
END:DAYLIGHT
BEGIN:STANDARD
TZOFFSETFROM:-0400
TZOFFSETTO:-0500
TZNAME:EST
DTSTART:20241103T060000
END:STANDARD
BEGIN:DAYLIGHT
TZOFFSETFROM:-0500
TZOFFSETTO:-0400
TZNAME:EDT
DTSTART:20250309T070000
END:DAYLIGHT
BEGIN:STANDARD
TZOFFSETFROM:-0400
TZOFFSETTO:-0500
TZNAME:EST
DTSTART:20251102T060000
END:STANDARD
BEGIN:DAYLIGHT
TZOFFSETFROM:-0500
TZOFFSETTO:-0400
TZNAME:EDT
DTSTART:20260308T070000
END:DAYLIGHT
BEGIN:STANDARD
TZOFFSETFROM:-0400
TZOFFSETTO:-0500
TZNAME:EST
DTSTART:20261101T060000
END:STANDARD
END:VTIMEZONE
BEGIN:VEVENT
DTSTART;TZID=America/Detroit:20250316T170000
DTEND;TZID=America/Detroit:20250316T190000
DTSTAMP:20260420T120202
CREATED:20250305T215149Z
LAST-MODIFIED:20250305T215149Z
UID:10000138-1742144400-1742151600@freedomchurch.life
SUMMARY:Hymn Night
DESCRIPTION:You are invited to a night of hymns. Rich Tenney will lead this time of singing and he will teach about the origin\, meaning\, and significance of the hymns. Come be blessed with a night of worship and hymns.
URL:https://freedomchurch.life/event/hymn-night-2/
LOCATION:Freedom Church\, 2797 Thomasville Road\, Tallahassee\, FL\, 32308\, United States
CATEGORIES:Freedom Church
ATTACH;FMTTYPE=image/jpeg:https://freedomchurch.life/wp-content/uploads/2025/01/HymnNight2-scaled.jpg
ORGANIZER;CN="Rich Tenney":MAILTO:tenneyr@freedomchurch.life
END:VEVENT
END:VCALENDAR