BEGIN:VCALENDAR
VERSION:2.0
PRODID:-//Freedom Church, Tallahassee, FL - ECPv6.15.20//NONSGML v1.0//EN
CALSCALE:GREGORIAN
METHOD:PUBLISH
X-WR-CALNAME:Freedom Church, Tallahassee, FL
X-ORIGINAL-URL:https://freedomchurch.life
X-WR-CALDESC:Events for Freedom Church, Tallahassee, FL
REFRESH-INTERVAL;VALUE=DURATION:PT1H
X-Robots-Tag:noindex
X-PUBLISHED-TTL:PT1H
BEGIN:VTIMEZONE
TZID:America/Detroit
BEGIN:DAYLIGHT
TZOFFSETFROM:-0500
TZOFFSETTO:-0400
TZNAME:EDT
DTSTART:20230312T070000
END:DAYLIGHT
BEGIN:STANDARD
TZOFFSETFROM:-0400
TZOFFSETTO:-0500
TZNAME:EST
DTSTART:20231105T060000
END:STANDARD
BEGIN:DAYLIGHT
TZOFFSETFROM:-0500
TZOFFSETTO:-0400
TZNAME:EDT
DTSTART:20240310T070000
END:DAYLIGHT
BEGIN:STANDARD
TZOFFSETFROM:-0400
TZOFFSETTO:-0500
TZNAME:EST
DTSTART:20241103T060000
END:STANDARD
BEGIN:DAYLIGHT
TZOFFSETFROM:-0500
TZOFFSETTO:-0400
TZNAME:EDT
DTSTART:20250309T070000
END:DAYLIGHT
BEGIN:STANDARD
TZOFFSETFROM:-0400
TZOFFSETTO:-0500
TZNAME:EST
DTSTART:20251102T060000
END:STANDARD
END:VTIMEZONE
BEGIN:VEVENT
DTSTART;TZID=America/Detroit:20240710T184500
DTEND;TZID=America/Detroit:20240710T200000
DTSTAMP:20260421T101353
CREATED:20240615T142318Z
LAST-MODIFIED:20240615T142916Z
UID:10000040-1720637100-1720641600@freedomchurch.life
SUMMARY:Wednesday Night Science Club
DESCRIPTION:Get ready for an explosion of science fun!\nWednesday Night Science Club will get your kids excited about God’s amazing creation! Each night kids will learn a bible lesson that is reinforced with hands on science fun! Our regular kids clubs will not meet during July\, and all preschool to elementary age kids will meet together for this fun science themed event!
URL:https://freedomchurch.life/event/wednesday-night-science-club/2024-07-10/
LOCATION:Freedom Church\, 2797 Thomasville Road\, Tallahassee\, FL\, 32308\, United States
CATEGORIES:Freedom Kids
ATTACH;FMTTYPE=image/jpeg:https://freedomchurch.life/wp-content/uploads/2024/06/MWC_Science_Theme-Slide.jpg2_.jpg
ORGANIZER;CN="Ren%C3%A9e Lunsford":MAILTO:renee@freedomchurch.life
END:VEVENT
BEGIN:VEVENT
DTSTART;TZID=America/Detroit:20240703T184500
DTEND;TZID=America/Detroit:20240703T200000
DTSTAMP:20260421T101353
CREATED:20240615T142318Z
LAST-MODIFIED:20240615T142916Z
UID:10000028-1720032300-1720036800@freedomchurch.life
SUMMARY:Wednesday Night Science Club
DESCRIPTION:Get ready for an explosion of science fun!\nWednesday Night Science Club will get your kids excited about God’s amazing creation! Each night kids will learn a bible lesson that is reinforced with hands on science fun! Our regular kids clubs will not meet during July\, and all preschool to elementary age kids will meet together for this fun science themed event!
URL:https://freedomchurch.life/event/wednesday-night-science-club/2024-07-03/
LOCATION:Freedom Church\, 2797 Thomasville Road\, Tallahassee\, FL\, 32308\, United States
CATEGORIES:Freedom Kids
ATTACH;FMTTYPE=image/jpeg:https://freedomchurch.life/wp-content/uploads/2024/06/MWC_Science_Theme-Slide.jpg2_.jpg
ORGANIZER;CN="Ren%C3%A9e Lunsford":MAILTO:renee@freedomchurch.life
END:VEVENT
BEGIN:VEVENT
DTSTART;TZID=America/Detroit:20240629T103000
DTEND;TZID=America/Detroit:20240629T130000
DTSTAMP:20260421T101353
CREATED:20240610T015544Z
LAST-MODIFIED:20240613T025054Z
UID:10000019-1719657000-1719666000@freedomchurch.life
SUMMARY:Freedom Family Picnic
DESCRIPTION:Come to the Freedom Family Picnic!\nSaturday\, June 29\, 10:30 AM \nThe Freedom Church Family Picnic is happening June 29. Freedom Kids and Freedom saints are organizing the picnic for the whole church family to enjoy. There will be a cookout\, summertime games\, and plenty of treats. Everyone is invited June 29\, 10:30 to 1 PM on the front lawn of Freedom Church \n\nSign Up At This Link
URL:https://freedomchurch.life/event/freedom-family-picnic/
LOCATION:Freedom Church\, 2797 Thomasville Road\, Tallahassee\, FL\, 32308\, United States
CATEGORIES:Freedom Kids
ATTACH;FMTTYPE=image/jpeg:https://freedomchurch.life/wp-content/uploads/2024/06/Familypicnicenews.jpg
ORGANIZER;CN="Ren%C3%A9e Lunsford":MAILTO:renee@freedomchurch.life
END:VEVENT
BEGIN:VEVENT
DTSTART;VALUE=DATE:20240616
DTEND;VALUE=DATE:20240620
DTSTAMP:20260421T101354
CREATED:20240519T201109Z
LAST-MODIFIED:20240613T011158Z
UID:10000010-1718496000-1718841599@freedomchurch.life
SUMMARY:Kids Camp
DESCRIPTION:
URL:https://freedomchurch.life/event/kids-camp/
CATEGORIES:Freedom Kids
ATTACH;FMTTYPE=image/jpeg:https://freedomchurch.life/wp-content/uploads/2024/05/kidscamp-1920.jpeg
ORGANIZER;CN="Ren%C3%A9e Lunsford":MAILTO:renee@freedomchurch.life
END:VEVENT
BEGIN:VEVENT
DTSTART;VALUE=DATE:20240605
DTEND;VALUE=DATE:20240609
DTSTAMP:20260421T101354
CREATED:20240519T200441Z
LAST-MODIFIED:20240519T200441Z
UID:10000008-1717617600-1717876799@freedomchurch.life
SUMMARY:JBQ Nationals
DESCRIPTION:
URL:https://freedomchurch.life/event/jbq-nationals/
ATTACH;FMTTYPE=image/png:https://freedomchurch.life/wp-content/uploads/2024/05/21JBQ.png
ORGANIZER;CN="Ren%C3%A9e Lunsford":MAILTO:renee@freedomchurch.life
END:VEVENT
END:VCALENDAR