BEGIN:VCALENDAR
VERSION:2.0
PRODID:-//Freedom Church, Tallahassee, FL - ECPv6.15.20//NONSGML v1.0//EN
CALSCALE:GREGORIAN
METHOD:PUBLISH
X-ORIGINAL-URL:https://freedomchurch.life
X-WR-CALDESC:Events for Freedom Church, Tallahassee, FL
REFRESH-INTERVAL;VALUE=DURATION:PT1H
X-Robots-Tag:noindex
X-PUBLISHED-TTL:PT1H
BEGIN:VTIMEZONE
TZID:America/Detroit
BEGIN:DAYLIGHT
TZOFFSETFROM:-0500
TZOFFSETTO:-0400
TZNAME:EDT
DTSTART:20250309T070000
END:DAYLIGHT
BEGIN:STANDARD
TZOFFSETFROM:-0400
TZOFFSETTO:-0500
TZNAME:EST
DTSTART:20251102T060000
END:STANDARD
BEGIN:DAYLIGHT
TZOFFSETFROM:-0500
TZOFFSETTO:-0400
TZNAME:EDT
DTSTART:20260308T070000
END:DAYLIGHT
BEGIN:STANDARD
TZOFFSETFROM:-0400
TZOFFSETTO:-0500
TZNAME:EST
DTSTART:20261101T060000
END:STANDARD
BEGIN:DAYLIGHT
TZOFFSETFROM:-0500
TZOFFSETTO:-0400
TZNAME:EDT
DTSTART:20270314T070000
END:DAYLIGHT
BEGIN:STANDARD
TZOFFSETFROM:-0400
TZOFFSETTO:-0500
TZNAME:EST
DTSTART:20271107T060000
END:STANDARD
END:VTIMEZONE
BEGIN:VEVENT
DTSTART;VALUE=DATE:20260724
DTEND;VALUE=DATE:20260727
DTSTAMP:20260421T054033
CREATED:20260408T194741Z
LAST-MODIFIED:20260408T194741Z
UID:10000187-1784851200-1785110399@freedomchurch.life
SUMMARY:VBS: Kingdom Quest
DESCRIPTION:Ready to embark on the ultimate adventure? Kids will take an unforgettable journey to discover what it means to follow Jesus and find life in God’s kingdom. They will be immersed in a fantastical kingdom setting with magical adventures and epic quests through enchanted lands. Imagine a blend of Narnia and a Minecraft adventure game! \nFor ages four to completed 5th grade. \nRegister your kids for VBS!
URL:https://freedomchurch.life/event/vbs-kingdom-quest/
LOCATION:Freedom Church\, 2797 Thomasville Road\, Tallahassee\, FL\, 32308\, United States
CATEGORIES:Freedom Church,Freedom Kids
ATTACH;FMTTYPE=image/jpeg:https://freedomchurch.life/wp-content/uploads/2026/04/KQWebsite-banner.jpg
ORGANIZER;CN="Ren%C3%A9e Lunsford":MAILTO:renee@freedomchurch.life
END:VEVENT
END:VCALENDAR