BEGIN:VCALENDAR
VERSION:2.0
PRODID:-//Freedom Church, Tallahassee, FL - ECPv6.15.20//NONSGML v1.0//EN
CALSCALE:GREGORIAN
METHOD:PUBLISH
X-ORIGINAL-URL:https://freedomchurch.life
X-WR-CALDESC:Events for Freedom Church, Tallahassee, FL
REFRESH-INTERVAL;VALUE=DURATION:PT1H
X-Robots-Tag:noindex
X-PUBLISHED-TTL:PT1H
BEGIN:VTIMEZONE
TZID:America/Detroit
BEGIN:DAYLIGHT
TZOFFSETFROM:-0500
TZOFFSETTO:-0400
TZNAME:EDT
DTSTART:20250309T070000
END:DAYLIGHT
BEGIN:STANDARD
TZOFFSETFROM:-0400
TZOFFSETTO:-0500
TZNAME:EST
DTSTART:20251102T060000
END:STANDARD
BEGIN:DAYLIGHT
TZOFFSETFROM:-0500
TZOFFSETTO:-0400
TZNAME:EDT
DTSTART:20260308T070000
END:DAYLIGHT
BEGIN:STANDARD
TZOFFSETFROM:-0400
TZOFFSETTO:-0500
TZNAME:EST
DTSTART:20261101T060000
END:STANDARD
BEGIN:DAYLIGHT
TZOFFSETFROM:-0500
TZOFFSETTO:-0400
TZNAME:EDT
DTSTART:20270314T070000
END:DAYLIGHT
BEGIN:STANDARD
TZOFFSETFROM:-0400
TZOFFSETTO:-0500
TZNAME:EST
DTSTART:20271107T060000
END:STANDARD
END:VTIMEZONE
BEGIN:VEVENT
DTSTART;TZID=America/Detroit:20260222T113000
DTEND;TZID=America/Detroit:20260222T140000
DTSTAMP:20260421T053740
CREATED:20260208T141559Z
LAST-MODIFIED:20260217T213524Z
UID:10000180-1771759800-1771768800@freedomchurch.life
SUMMARY:New Here Sunday
DESCRIPTION:If you are new to Freedom Church\, come to the New Here Sunday Luncheon\, on February 22\, after the main service. Please RSVP at the link below. \n\nRSVP for the New Here Sunday Lunch
URL:https://freedomchurch.life/event/new-here-sunday/
LOCATION:Freedom Church\, 2797 Thomasville Road\, Tallahassee\, FL\, 32308\, United States
CATEGORIES:Freedom Church
ATTACH;FMTTYPE=image/jpeg:https://freedomchurch.life/wp-content/uploads/2026/02/NewHere.jpg
ORGANIZER;CN="Pastor Perry Dissmore":MAILTO:perry@freedomchurch.life
END:VEVENT
BEGIN:VEVENT
DTSTART;TZID=America/Detroit:20260110T090000
DTEND;TZID=America/Detroit:20260110T110000
DTSTAMP:20260421T053740
CREATED:20251214T142711Z
LAST-MODIFIED:20251214T142729Z
UID:10000174-1768035600-1768042800@freedomchurch.life
SUMMARY:McCord Park Clean Up
DESCRIPTION:McCord Park Clean Up \nJanuary 10\, 9:00 AM-11:00 AM\nStart the year off loving your neighbor! Freedom Church will help our local neighbors by helping them clean up McCord Park on January 10\, 9:00 AM-11:00 AM. We will provide doughnuts and lend a hand. We will have the chance to share the love of Christ with people.
URL:https://freedomchurch.life/event/mccord-park-clean-up/
LOCATION:McCord Park\, 2121 Armistead Rd\, Tallahassee\, FL\, 32308\, United States
CATEGORIES:Freedom Church,Outreach
ATTACH;FMTTYPE=image/jpeg:https://freedomchurch.life/wp-content/uploads/2025/04/2025-01-12-Love-Your-Neighbor.001.jpeg
ORGANIZER;CN="Pastor Perry Dissmore":MAILTO:perry@freedomchurch.life
END:VEVENT
END:VCALENDAR