BEGIN:VCALENDAR
VERSION:2.0
PRODID:-//Freedom Church, Tallahassee, FL - ECPv6.15.20//NONSGML v1.0//EN
CALSCALE:GREGORIAN
METHOD:PUBLISH
X-ORIGINAL-URL:https://freedomchurch.life
X-WR-CALDESC:Events for Freedom Church, Tallahassee, FL
REFRESH-INTERVAL;VALUE=DURATION:PT1H
X-Robots-Tag:noindex
X-PUBLISHED-TTL:PT1H
BEGIN:VTIMEZONE
TZID:America/Detroit
BEGIN:DAYLIGHT
TZOFFSETFROM:-0500
TZOFFSETTO:-0400
TZNAME:EDT
DTSTART:20230312T070000
END:DAYLIGHT
BEGIN:STANDARD
TZOFFSETFROM:-0400
TZOFFSETTO:-0500
TZNAME:EST
DTSTART:20231105T060000
END:STANDARD
BEGIN:DAYLIGHT
TZOFFSETFROM:-0500
TZOFFSETTO:-0400
TZNAME:EDT
DTSTART:20240310T070000
END:DAYLIGHT
BEGIN:STANDARD
TZOFFSETFROM:-0400
TZOFFSETTO:-0500
TZNAME:EST
DTSTART:20241103T060000
END:STANDARD
BEGIN:DAYLIGHT
TZOFFSETFROM:-0500
TZOFFSETTO:-0400
TZNAME:EDT
DTSTART:20250309T070000
END:DAYLIGHT
BEGIN:STANDARD
TZOFFSETFROM:-0400
TZOFFSETTO:-0500
TZNAME:EST
DTSTART:20251102T060000
END:STANDARD
BEGIN:DAYLIGHT
TZOFFSETFROM:-0500
TZOFFSETTO:-0400
TZNAME:EDT
DTSTART:20260308T070000
END:DAYLIGHT
BEGIN:STANDARD
TZOFFSETFROM:-0400
TZOFFSETTO:-0500
TZNAME:EST
DTSTART:20261101T060000
END:STANDARD
END:VTIMEZONE
BEGIN:VEVENT
DTSTART;TZID=America/Detroit:20250914T100000
DTEND;TZID=America/Detroit:20250914T113000
DTSTAMP:20260422T060133
CREATED:20250820T141744Z
LAST-MODIFIED:20250820T141744Z
UID:10000155-1757844000-1757849400@freedomchurch.life
SUMMARY:Baptism Sunday
DESCRIPTION:Baptism Sunday September 14 \nIf you want to be baptized\, your next opportunity is Sunday\, September 14. Click the button to register for baptism\, and a pastor will contact you. \n\nRegister for Baptism
URL:https://freedomchurch.life/event/baptism-sunday-4/
LOCATION:Freedom Church\, 2797 Thomasville Road\, Tallahassee\, FL\, 32308\, United States
CATEGORIES:Freedom Church
ATTACH;FMTTYPE=image/jpeg:https://freedomchurch.life/wp-content/uploads/2025/08/Water-Baptism-scaled.jpg
ORGANIZER;CN="Nate Phillips":MAILTO:nate@freedomchurch.life
END:VEVENT
BEGIN:VEVENT
DTSTART;TZID=America/Detroit:20250906T080000
DTEND;TZID=America/Detroit:20250906T170000
DTSTAMP:20260422T060133
CREATED:20250820T144612Z
LAST-MODIFIED:20250820T144612Z
UID:10000157-1757145600-1757178000@freedomchurch.life
SUMMARY:Freedom Youth Yard Sale
DESCRIPTION:Yard Sale September 6: Bring your Donations! \nIf you would like to help students attend the Freedom Youth Fall Retreat\, you can donate your stuff to the Freedom Youth Yard Sale\, and de-clutter your house at the same time! Bring donations that are useable and in good shape to sell that would include small appliances\, books\, clothes\, toys\, household goods\, etc. Please do not bring broken items or items that are in poor shape. We will receive donations until Wednesday\, September 3.
URL:https://freedomchurch.life/event/freedom-youth-yard-sale/
LOCATION:Freedom Church\, 2797 Thomasville Road\, Tallahassee\, FL\, 32308\, United States
CATEGORIES:Freedom Church,Freedom Youth
ATTACH;FMTTYPE=image/jpeg:https://freedomchurch.life/wp-content/uploads/2025/08/YouthYardSale.jpg
ORGANIZER;CN="Nate Phillips":MAILTO:nate@freedomchurch.life
END:VEVENT
BEGIN:VEVENT
DTSTART;TZID=America/Detroit:20250426T140000
DTEND;TZID=America/Detroit:20250426T170000
DTSTAMP:20260422T060133
CREATED:20250226T185151Z
LAST-MODIFIED:20250227T005847Z
UID:10000137-1745676000-1745686800@freedomchurch.life
SUMMARY:Common Ground (Youth Event)
DESCRIPTION:Freedom Church and Fellowship of Christian Athletes are partnering for an uncommon youth event: Common Ground. April 26\, 2:00-5:00 PM\, with special guest Reggie Dabbs. Born into a hopeless situation\, now Reggie Dabbs fills students with hope for their future. Reggie has become one of the most sought-after public speakers in America. As students battle societal pressures and expectations\, Reggie offers a future where your purpose is greater than your past. Visit reggiedabbsonline.com to read his full story. \n\nRegister HereVisit Reggie Dabbs’ Website
URL:https://freedomchurch.life/event/common-ground-youth-event/
LOCATION:Freedom Church\, 2797 Thomasville Road\, Tallahassee\, FL\, 32308\, United States
CATEGORIES:Freedom Youth
ATTACH;FMTTYPE=image/jpeg:https://freedomchurch.life/wp-content/uploads/2025/02/2025CommonGroundWeb.jpg
ORGANIZER;CN="Nate Phillips":MAILTO:nate@freedomchurch.life
END:VEVENT
BEGIN:VEVENT
DTSTART;VALUE=DATE:20240915
DTEND;VALUE=DATE:20240916
DTSTAMP:20260422T060134
CREATED:20240611T112631Z
LAST-MODIFIED:20240611T112707Z
UID:10000023-1726358400-1726444799@freedomchurch.life
SUMMARY:Life Group Launch
DESCRIPTION:Fall Life Groups Launch is coming September 15. Watch for details. You may find all of our Life Groups at the link below: \nSee Life Groups Listing Here
URL:https://freedomchurch.life/event/life-group-launch/
LOCATION:Freedom Church\, 2797 Thomasville Road\, Tallahassee\, FL\, 32308\, United States
CATEGORIES:Life Groups
ATTACH;FMTTYPE=image/jpeg:https://freedomchurch.life/wp-content/uploads/2024/06/LifeGroups.jpg
ORGANIZER;CN="Nate Phillips":MAILTO:nate@freedomchurch.life
END:VEVENT
BEGIN:VEVENT
DTSTART;TZID=America/Detroit:20240814T184500
DTEND;TZID=America/Detroit:20240814T203000
DTSTAMP:20260422T060134
CREATED:20240611T113723Z
LAST-MODIFIED:20240611T113812Z
UID:10000026-1723661100-1723667400@freedomchurch.life
SUMMARY:Color War (Freedom Youth)
DESCRIPTION:Start the school year off right with Color War! at Freedom Youth!
URL:https://freedomchurch.life/event/color-war-freedom-youth/
LOCATION:Freedom Church\, 2797 Thomasville Road\, Tallahassee\, FL\, 32308\, United States
CATEGORIES:Freedom Youth
ATTACH;FMTTYPE=image/jpeg:https://freedomchurch.life/wp-content/uploads/2024/06/FYcolorWar.jpg
ORGANIZER;CN="Nate Phillips":MAILTO:nate@freedomchurch.life
END:VEVENT
BEGIN:VEVENT
DTSTART;TZID=America/Detroit:20240728T123000
DTEND;TZID=America/Detroit:20240728T140000
DTSTAMP:20260422T060134
CREATED:20240610T015655Z
LAST-MODIFIED:20240630T135607Z
UID:10000020-1722169800-1722175200@freedomchurch.life
SUMMARY:Life Groups Interest Luncheon
DESCRIPTION:Life Groups Launch is coming in September and we want to expand our discipleship opportunities to our church family. If you are interested in helping people grow in Christ\, please come to the Life Groups Interest Luncheon on July 28 to find out about possible new and unique groups that will help foster spiritual growth. Register at the link below: \n\nRegister for the Life Groups Leadership Luncheon
URL:https://freedomchurch.life/event/life-groups-interest-luncheon/
LOCATION:Freedom Church\, 2797 Thomasville Road\, Tallahassee\, FL\, 32308\, United States
CATEGORIES:Life Groups
ATTACH;FMTTYPE=image/jpeg:https://freedomchurch.life/wp-content/uploads/2024/06/LifeGroups2024.jpg
ORGANIZER;CN="Nate Phillips":MAILTO:nate@freedomchurch.life
END:VEVENT
BEGIN:VEVENT
DTSTART;VALUE=DATE:20240721
DTEND;VALUE=DATE:20240725
DTSTAMP:20260422T060134
CREATED:20240708T152116Z
LAST-MODIFIED:20240708T152117Z
UID:10000088-1721520000-1721865599@freedomchurch.life
SUMMARY:Empower Youth Serve Camp
DESCRIPTION:Empower Serve Camp is July 21-24. Freedom Youth will experience powerful services with our special missionary guest speakers\, and character-building service projects during the days. Sign your teen up for this great camp of fun\, service\, and encounters with God. \n\nSignup Your Teen for Empower
URL:https://freedomchurch.life/event/empower-youth-serve-camp/
LOCATION:Freedom Church\, 2797 Thomasville Road\, Tallahassee\, FL\, 32308\, United States
CATEGORIES:Freedom Youth
ATTACH;FMTTYPE=image/jpeg:https://freedomchurch.life/wp-content/uploads/2024/07/Empower24slide2.jpg
ORGANIZER;CN="Nate Phillips":MAILTO:nate@freedomchurch.life
END:VEVENT
BEGIN:VEVENT
DTSTART;TZID=America/Detroit:20240630T110000
DTEND;TZID=America/Detroit:20240630T120000
DTSTAMP:20260422T060134
CREATED:20240610T020311Z
LAST-MODIFIED:20240610T020933Z
UID:10000022-1719745200-1719748800@freedomchurch.life
SUMMARY:Baptism Sunday
DESCRIPTION:If you want to be baptized\, your next opportunity will be Sunday\, June 30\, during the 11 AM service. Sign up here and a pastor will contact you with detailed information. \nSign Up at this link
URL:https://freedomchurch.life/event/baptism-sunday/
LOCATION:Freedom Church\, 2797 Thomasville Road\, Tallahassee\, FL\, 32308\, United States
ATTACH;FMTTYPE=image/jpeg:https://freedomchurch.life/wp-content/uploads/2024/06/baptismsunday6-30.jpg
ORGANIZER;CN="Nate Phillips":MAILTO:nate@freedomchurch.life
END:VEVENT
BEGIN:VEVENT
DTSTART;VALUE=DATE:20240626
DTEND;VALUE=DATE:20240701
DTSTAMP:20260422T060134
CREATED:20240519T200935Z
LAST-MODIFIED:20240623T141917Z
UID:10000009-1719432000-1719777599@freedomchurch.life
SUMMARY:Forward Youth Conference
DESCRIPTION:Forward Con is a two day youth conference hosted by Free Chapel near Atlanta\, GA. Find out more about Forward Conference at the link below: \nForward Conference
URL:https://freedomchurch.life/event/forward-youth-conference/
CATEGORIES:Freedom Youth
ATTACH;FMTTYPE=image/png:https://freedomchurch.life/wp-content/uploads/2024/05/Screenshot-2024-05-19-at-12.08.46 PM.png
ORGANIZER;CN="Nate Phillips":MAILTO:nate@freedomchurch.life
END:VEVENT
END:VCALENDAR