BEGIN:VCALENDAR
VERSION:2.0
PRODID:-//Freedom Church, Tallahassee, FL - ECPv6.15.20//NONSGML v1.0//EN
CALSCALE:GREGORIAN
METHOD:PUBLISH
X-WR-CALNAME:Freedom Church, Tallahassee, FL
X-ORIGINAL-URL:https://freedomchurch.life
X-WR-CALDESC:Events for Freedom Church, Tallahassee, FL
REFRESH-INTERVAL;VALUE=DURATION:PT1H
X-Robots-Tag:noindex
X-PUBLISHED-TTL:PT1H
BEGIN:VTIMEZONE
TZID:America/Detroit
BEGIN:DAYLIGHT
TZOFFSETFROM:-0500
TZOFFSETTO:-0400
TZNAME:EDT
DTSTART:20240310T070000
END:DAYLIGHT
BEGIN:STANDARD
TZOFFSETFROM:-0400
TZOFFSETTO:-0500
TZNAME:EST
DTSTART:20241103T060000
END:STANDARD
BEGIN:DAYLIGHT
TZOFFSETFROM:-0500
TZOFFSETTO:-0400
TZNAME:EDT
DTSTART:20250309T070000
END:DAYLIGHT
BEGIN:STANDARD
TZOFFSETFROM:-0400
TZOFFSETTO:-0500
TZNAME:EST
DTSTART:20251102T060000
END:STANDARD
BEGIN:DAYLIGHT
TZOFFSETFROM:-0500
TZOFFSETTO:-0400
TZNAME:EDT
DTSTART:20260308T070000
END:DAYLIGHT
BEGIN:STANDARD
TZOFFSETFROM:-0400
TZOFFSETTO:-0500
TZNAME:EST
DTSTART:20261101T060000
END:STANDARD
END:VTIMEZONE
BEGIN:VEVENT
DTSTART;TZID=America/Detroit:20251224T170000
DTEND;TZID=America/Detroit:20251224T180000
DTSTAMP:20260420T085648
CREATED:20251123T130331Z
LAST-MODIFIED:20251124T180330Z
UID:10000168-1766595600-1766599200@freedomchurch.life
SUMMARY:Christmas Eve Service
DESCRIPTION:Join your Freedom Church Family for the Christmas Eve service at 5:00 PM. We will have communion and celebrate Christ’s birth together.
URL:https://freedomchurch.life/event/christmas-eve-service-2/
LOCATION:Freedom Church\, 2797 Thomasville Road\, Tallahassee\, FL\, 32308\, United States
CATEGORIES:Freedom Church
ATTACH;FMTTYPE=image/jpeg:https://freedomchurch.life/wp-content/uploads/2025/11/ChristmasEveServiceSlide.jpg
ORGANIZER;CN="Joseph Adams":MAILTO:joseph@freedomchurch.life
END:VEVENT
BEGIN:VEVENT
DTSTART;TZID=America/Detroit:20250824T123000
DTEND;TZID=America/Detroit:20250824T143000
DTSTAMP:20260420T085649
CREATED:20250820T151545Z
LAST-MODIFIED:20250820T152017Z
UID:10000159-1756038600-1756045800@freedomchurch.life
SUMMARY:Freedom YA College Days
DESCRIPTION:College Days August 2! \nNext Sunday wear your favorite college apparel as we welcome our college students back to Tallahassee! We have special day planned for our students\, so invite any student you know to come to the service!
URL:https://freedomchurch.life/event/freedom-ya-college-days/
LOCATION:Momo’s Pizza\, 1410 Market St STE C1\, Tallahassee\, FL\, 32312\, United States
CATEGORIES:Freedom Church,Young Adults
ATTACH;FMTTYPE=image/jpeg:https://freedomchurch.life/wp-content/uploads/2025/08/College-Days-Landscape.jpg
ORGANIZER;CN="Joseph Adams":MAILTO:joseph@freedomchurch.life
END:VEVENT
BEGIN:VEVENT
DTSTART;TZID=America/Detroit:20250510T080000
DTEND;TZID=America/Detroit:20250510T170000
DTSTAMP:20260420T085649
CREATED:20250417T190037Z
LAST-MODIFIED:20250417T190142Z
UID:10000145-1746864000-1746896400@freedomchurch.life
SUMMARY:FYA Beach Day
DESCRIPTION:Young Adults Beach day will be May 10. If you are in the  18-25 age group get the details and let us know you are coming at the link below: \nFYA Beach Day Signup
URL:https://freedomchurch.life/event/fya-beach-day/
CATEGORIES:Young Adults
ATTACH;FMTTYPE=image/png:https://freedomchurch.life/wp-content/uploads/2025/04/2025-04-20.00_02_55_28.Still001.png
ORGANIZER;CN="Joseph Adams":MAILTO:joseph@freedomchurch.life
END:VEVENT
END:VCALENDAR